BEGIN:VCALENDAR
VERSION:2.0
PRODID:-//KENTUCKY&#039;S HEARTLAND - ECPv6.15.20//NONSGML v1.0//EN
CALSCALE:GREGORIAN
METHOD:PUBLISH
X-ORIGINAL-URL:https://kentuckysheartland.com
X-WR-CALDESC:Events for KENTUCKY&#039;S HEARTLAND
REFRESH-INTERVAL;VALUE=DURATION:PT1H
X-Robots-Tag:noindex
X-PUBLISHED-TTL:PT1H
BEGIN:VTIMEZONE
TZID:America/Halifax
BEGIN:DAYLIGHT
TZOFFSETFROM:-0400
TZOFFSETTO:-0300
TZNAME:ADT
DTSTART:20230312T060000
END:DAYLIGHT
BEGIN:STANDARD
TZOFFSETFROM:-0300
TZOFFSETTO:-0400
TZNAME:AST
DTSTART:20231105T050000
END:STANDARD
BEGIN:DAYLIGHT
TZOFFSETFROM:-0400
TZOFFSETTO:-0300
TZNAME:ADT
DTSTART:20240310T060000
END:DAYLIGHT
BEGIN:STANDARD
TZOFFSETFROM:-0300
TZOFFSETTO:-0400
TZNAME:AST
DTSTART:20241103T050000
END:STANDARD
BEGIN:DAYLIGHT
TZOFFSETFROM:-0400
TZOFFSETTO:-0300
TZNAME:ADT
DTSTART:20250309T060000
END:DAYLIGHT
BEGIN:STANDARD
TZOFFSETFROM:-0300
TZOFFSETTO:-0400
TZNAME:AST
DTSTART:20251102T050000
END:STANDARD
END:VTIMEZONE
BEGIN:VEVENT
DTSTART;TZID=America/Halifax:20241123T190000
DTEND;TZID=America/Halifax:20241123T210000
DTSTAMP:20260420T071733
CREATED:20241118T151750Z
LAST-MODIFIED:20241118T151750Z
UID:5058-1732388400-1732395600@kentuckysheartland.com
SUMMARY:The Eric & Joe Show
DESCRIPTION:Event: The Eric and Joe Show: “That Didn’t Age Well”\nDates & Times: \n\nFriday\, Nov. 22 at 7 p.m.\nSaturday\, Nov. 23 at 7 p.m.\nSunday\, Nov. 24 at 5 p.m. (Matinee)\n\nLocation: The Historic State Theater\, Elizabethtown\, KY \nDescription:\nGet ready for three nights of side-splitting laughter as The Eric and Joe Show returns to the State Theater with their all-new show\, That Didn’t Age Well! For the past 11 years\, co-creators Joe Bennett and Eric Clemens have brought their quirky\, hilarious sketches to the stage\, evolving from a simple idea into a full-blown community event complete with a house band\, flashy videos\, a VIP party\, and even a red-carpet entrance. \nThis year’s show promises to be their funniest yet\, and it’s all for a great cause! Proceeds will benefit Hope Academy for Kids\, a non-profit close to the hearts of Eric and Joe. \nTickets: \n\nGeneral Admission: $15\nVIP Tickets: $50 (includes preferred seating\, 2024 show shirt\, VIP gift bag\, access to VIP party\, snacks\, and more!)\n\nHow to Get Tickets:\nVisit theericandjoeshow.com to purchase tickets and learn more about the show. \nWhy Attend?\nWhether you’re a longtime fan or new to the fun\, you won’t want to miss this chance to laugh until your cheeks hurt. It’s the perfect escape from the everyday hustle and a great way to support a fantastic cause. So\, grab your tickets\, bring your friends\, and prepare for a night of laughter\, surprises\, and maybe just a little bit of weirdness! \nSee you at the State Theater! 🎭😂
URL:https://kentuckysheartland.com/event/the-eric-joe-show-2/2024-11-23/
LOCATION:Historic State Theater\, 209 West Dixie Avenue\, Elizabethtown\, Kentucky\, 42701
CATEGORIES:Arts & Entertainment
ATTACH;FMTTYPE=image/png:https://kentuckysheartland.com/wp-content/uploads/2024/11/Eric-and-Joe-Blog-Graphic.png
END:VEVENT
BEGIN:VEVENT
DTSTART;TZID=America/Halifax:20241122T190000
DTEND;TZID=America/Halifax:20241122T210000
DTSTAMP:20260420T071733
CREATED:20241118T151750Z
LAST-MODIFIED:20241118T151750Z
UID:5057-1732302000-1732309200@kentuckysheartland.com
SUMMARY:The Eric & Joe Show
DESCRIPTION:Event: The Eric and Joe Show: “That Didn’t Age Well”\nDates & Times: \n\nFriday\, Nov. 22 at 7 p.m.\nSaturday\, Nov. 23 at 7 p.m.\nSunday\, Nov. 24 at 5 p.m. (Matinee)\n\nLocation: The Historic State Theater\, Elizabethtown\, KY \nDescription:\nGet ready for three nights of side-splitting laughter as The Eric and Joe Show returns to the State Theater with their all-new show\, That Didn’t Age Well! For the past 11 years\, co-creators Joe Bennett and Eric Clemens have brought their quirky\, hilarious sketches to the stage\, evolving from a simple idea into a full-blown community event complete with a house band\, flashy videos\, a VIP party\, and even a red-carpet entrance. \nThis year’s show promises to be their funniest yet\, and it’s all for a great cause! Proceeds will benefit Hope Academy for Kids\, a non-profit close to the hearts of Eric and Joe. \nTickets: \n\nGeneral Admission: $15\nVIP Tickets: $50 (includes preferred seating\, 2024 show shirt\, VIP gift bag\, access to VIP party\, snacks\, and more!)\n\nHow to Get Tickets:\nVisit theericandjoeshow.com to purchase tickets and learn more about the show. \nWhy Attend?\nWhether you’re a longtime fan or new to the fun\, you won’t want to miss this chance to laugh until your cheeks hurt. It’s the perfect escape from the everyday hustle and a great way to support a fantastic cause. So\, grab your tickets\, bring your friends\, and prepare for a night of laughter\, surprises\, and maybe just a little bit of weirdness! \nSee you at the State Theater! 🎭😂
URL:https://kentuckysheartland.com/event/the-eric-joe-show-2/2024-11-22/
LOCATION:Historic State Theater\, 209 West Dixie Avenue\, Elizabethtown\, Kentucky\, 42701
CATEGORIES:Arts & Entertainment
ATTACH;FMTTYPE=image/png:https://kentuckysheartland.com/wp-content/uploads/2024/11/Eric-and-Joe-Blog-Graphic.png
END:VEVENT
END:VCALENDAR