BEGIN:VCALENDAR
VERSION:2.0
PRODID:-//KENTUCKY&#039;S HEARTLAND - ECPv6.15.20//NONSGML v1.0//EN
CALSCALE:GREGORIAN
METHOD:PUBLISH
X-WR-CALNAME:KENTUCKY&#039;S HEARTLAND
X-ORIGINAL-URL:https://kentuckysheartland.com
X-WR-CALDESC:Events for KENTUCKY&#039;S HEARTLAND
REFRESH-INTERVAL;VALUE=DURATION:PT1H
X-Robots-Tag:noindex
X-PUBLISHED-TTL:PT1H
BEGIN:VTIMEZONE
TZID:UTC
BEGIN:STANDARD
TZOFFSETFROM:+0000
TZOFFSETTO:+0000
TZNAME:UTC
DTSTART:20200101T000000
END:STANDARD
END:VTIMEZONE
BEGIN:VEVENT
DTSTART;TZID=UTC:20211030T130000
DTEND;TZID=UTC:20211030T150000
DTSTAMP:20260420T161536
CREATED:20211018T192156Z
LAST-MODIFIED:20211018T192156Z
UID:2795-1635598800-1635606000@kentuckysheartland.com
SUMMARY:Memorial UMC Trunk or Treat
DESCRIPTION:Memorial United Methodist is hosting their annual fun\, family friendly\, trunk or treat!
URL:https://kentuckysheartland.com/event/memorial-umc-trunk-or-treat/
LOCATION:Memorial United Methodist Church\, 631 North Miles Street\, Elizabethtown\, Kentucky\, 42701
CATEGORIES:Community Events
END:VEVENT
BEGIN:VEVENT
DTSTART;TZID=UTC:20211030T140000
DTEND;TZID=UTC:20211030T180000
DTSTAMP:20260420T161536
CREATED:20211018T192655Z
LAST-MODIFIED:20211018T192655Z
UID:2796-1635602400-1635616800@kentuckysheartland.com
SUMMARY:Sportsplex Spooktacular
DESCRIPTION:The Bluegrass Sportsplex is partnering with Quicksie 98.3 & 94.3 The Wolf radio stations to bring you an indoor trick or treating event designed for the whole family. Lots of candy\, a dance party\, food trucks\, inflatables for the kids\, and much more are planned.
URL:https://kentuckysheartland.com/event/sportsplex-spooktacular/
LOCATION:Bluegrass Sportsplex\, 208 Peterson Drive\, Elizabethtown\, Kentucky\, 42701
CATEGORIES:Community Events
END:VEVENT
BEGIN:VEVENT
DTSTART;TZID=UTC:20211030T170000
DTEND;TZID=UTC:20211030T200000
DTSTAMP:20260420T161536
CREATED:20211018T193302Z
LAST-MODIFIED:20211018T193302Z
UID:2800-1635613200-1635624000@kentuckysheartland.com
SUMMARY:Trunk or Treat Event
DESCRIPTION:The End Human Trafficking Rotary Club of District 6710 is hosting a trunk or treat event on Saturday\, October 30\, 2021 from 5:00 pm to 8:00 pm at Water’s Edge Winery & Bistro located at 114 N. Mulberry Street Elizabethtown. \n  \nThey are looking for vendors to decorate their trunks\, share their products and pass candy to all the ‘lil gremlins’. Each participant is asked to have at between 3000 to 5000 pieces of candy. If interested in participating please call (270) 401-5662 or email ehtd6710@gmail.com.
URL:https://kentuckysheartland.com/event/trunk-or-treat-event/
LOCATION:Water’s Edge Winery & Bistro\, 114 S Mulberry St\, Elizabethtown\, Kentucky\, 42701
CATEGORIES:Community Events
END:VEVENT
BEGIN:VEVENT
DTSTART;TZID=UTC:20211030T170000
DTEND;TZID=UTC:20211030T210000
DTSTAMP:20260420T161536
CREATED:20211018T192952Z
LAST-MODIFIED:20211018T192952Z
UID:2798-1635613200-1635627600@kentuckysheartland.com
SUMMARY:The Hallows Eve Bash
DESCRIPTION:The Cornhole Palace  Proudly Presents “The Hallows Eve Bash” \nThis is an all-ages event. $5 entry fee or wear a costume and get in free. \nCornhole tournament at 5pm.\nLive music 7pm.\nCostume contest.\nConcessions.
URL:https://kentuckysheartland.com/event/the-hallows-eve-bash/
LOCATION:Kentucky
CATEGORIES:Arts & Entertainment,Community Events
END:VEVENT
BEGIN:VEVENT
DTSTART;TZID=UTC:20211030T190000
DTEND;TZID=UTC:20211030T210000
DTSTAMP:20260420T161536
CREATED:20211018T193542Z
LAST-MODIFIED:20211018T193542Z
UID:2802-1635620400-1635627600@kentuckysheartland.com
SUMMARY:Hardin County Haunted Museum
DESCRIPTION:Hardin’s Haunted Museum invites you out for a spooky walk through the Museum featuring whispers from historic characters of our past! Free Admission! Saturday\, October 30 from 7pm to 9pm.
URL:https://kentuckysheartland.com/event/hardin-county-haunted-museum/
LOCATION:Hardin County History Museum\, 201 West Dixie Avenue\, Elizabethtown\, Kentucky\, 42701
CATEGORIES:Community Events
END:VEVENT
END:VCALENDAR