BEGIN:VCALENDAR
VERSION:2.0
PRODID:-//KENTUCKY&#039;S HEARTLAND - ECPv6.15.20//NONSGML v1.0//EN
CALSCALE:GREGORIAN
METHOD:PUBLISH
X-WR-CALNAME:KENTUCKY&#039;S HEARTLAND
X-ORIGINAL-URL:https://kentuckysheartland.com
X-WR-CALDESC:Events for KENTUCKY&#039;S HEARTLAND
REFRESH-INTERVAL;VALUE=DURATION:PT1H
X-Robots-Tag:noindex
X-PUBLISHED-TTL:PT1H
BEGIN:VTIMEZONE
TZID:UTC
BEGIN:STANDARD
TZOFFSETFROM:+0000
TZOFFSETTO:+0000
TZNAME:UTC
DTSTART:20200101T000000
END:STANDARD
END:VTIMEZONE
BEGIN:VEVENT
DTSTART;TZID=UTC:20211031T170000
DTEND;TZID=UTC:20211031T190000
DTSTAMP:20260420T174302
CREATED:20211018T193905Z
LAST-MODIFIED:20211018T193905Z
UID:2804-1635699600-1635706800@kentuckysheartland.com
SUMMARY:Glendale Christian Church Trunk or Treat
DESCRIPTION:Come and bring your little ones trick-or-treating in a safe\, family-friendly environment!\n*This is a FREE Community Event!!!
URL:https://kentuckysheartland.com/event/glendale-christian-church-trunk-or-treat/
LOCATION:Glendale Christian Church\, 119 East Main Street\, Glendale\, Kentucky\, 42740
CATEGORIES:Community Events
END:VEVENT
END:VCALENDAR