BEGIN:VCALENDAR
VERSION:2.0
PRODID:-//KENTUCKY&#039;S HEARTLAND - ECPv6.15.20//NONSGML v1.0//EN
CALSCALE:GREGORIAN
METHOD:PUBLISH
X-ORIGINAL-URL:https://kentuckysheartland.com
X-WR-CALDESC:Events for KENTUCKY&#039;S HEARTLAND
REFRESH-INTERVAL;VALUE=DURATION:PT1H
X-Robots-Tag:noindex
X-PUBLISHED-TTL:PT1H
BEGIN:VTIMEZONE
TZID:UTC
BEGIN:STANDARD
TZOFFSETFROM:+0000
TZOFFSETTO:+0000
TZNAME:UTC
DTSTART:20210101T000000
END:STANDARD
END:VTIMEZONE
BEGIN:VEVENT
DTSTART;TZID=UTC:20221101T183000
DTEND;TZID=UTC:20221101T203000
DTSTAMP:20260420T173332
CREATED:20221011T190006Z
LAST-MODIFIED:20221011T190006Z
UID:3658-1667327400-1667334600@kentuckysheartland.com
SUMMARY:Holiday Wreath Workshop
DESCRIPTION:MARK YOUR CALENDARS!\nOur annual wreath workshops are coming right up! This year we’re having TWO NIGHTS OF FUN and throwing it back to our original workshop days at HIP South!\nJoin us for a fun evening of friends and holiday wreaths! We’ll guide you through the process\, but we’ll always allow your creative freedom to run wild! An assortment of materials will be provided and all will dry beautifully and last you through the season! And of course\, snacks and beverages aplenty!\n\nTuesday\, November 1 // 6:30pm\nWednesday\, November 2 // 6:30pm\n\nWorkshops will take place @ HIP South\n— 25 Public Square\, Elizabethtown\, KY\n\nHope to see you there!\nOlivia & Catherine
URL:https://kentuckysheartland.com/event/holiday-wreath-workshop/
LOCATION:HIP South\, 25 Public Square\, Elizabethtown\, KY\, 42701\, United States
CATEGORIES:Arts & Entertainment,Community Events,Hardin County
ATTACH;FMTTYPE=image/jpeg:https://kentuckysheartland.com/wp-content/uploads/2022/10/wreath.jpg
END:VEVENT
END:VCALENDAR