BEGIN:VCALENDAR
VERSION:2.0
PRODID:-//KENTUCKY&#039;S HEARTLAND - ECPv6.15.20//NONSGML v1.0//EN
CALSCALE:GREGORIAN
METHOD:PUBLISH
X-ORIGINAL-URL:https://kentuckysheartland.com
X-WR-CALDESC:Events for KENTUCKY&#039;S HEARTLAND
REFRESH-INTERVAL;VALUE=DURATION:PT1H
X-Robots-Tag:noindex
X-PUBLISHED-TTL:PT1H
BEGIN:VTIMEZONE
TZID:UTC
BEGIN:STANDARD
TZOFFSETFROM:+0000
TZOFFSETTO:+0000
TZNAME:UTC
DTSTART:20180101T000000
END:STANDARD
END:VTIMEZONE
BEGIN:VEVENT
DTSTART;TZID=UTC:20190906T200000
DTEND;TZID=UTC:20190906T220000
DTSTAMP:20260420T110413
CREATED:20190827T215310Z
LAST-MODIFIED:20190827T215310Z
UID:755-1567800000-1567807200@kentuckysheartland.com
SUMMARY:Movie In The Park "Ralph Breaks The Internet"
DESCRIPTION:
URL:https://kentuckysheartland.com/event/movie-in-the-park-ralph-breaks-the-internet/
LOCATION:Freeman Lake Park\, 212 Freeman Lake Park Road\, Elizabethtown\, KY\, 42701
CATEGORIES:Arts & Entertainment,City Events,Community Events
END:VEVENT
BEGIN:VEVENT
DTSTART;TZID=UTC:20190906T200000
DTEND;TZID=UTC:20190906T220000
DTSTAMP:20260420T110413
CREATED:20190827T215310Z
LAST-MODIFIED:20190827T215310Z
UID:1778-1567800000-1567807200@kentuckysheartland.com
SUMMARY:Movie In The Park "Ralph Breaks The Internet"
DESCRIPTION:
URL:https://kentuckysheartland.com/event/movie-in-the-park-ralph-breaks-the-internet-2/
LOCATION:Freeman Lake Park\, 212 Freeman Lake Park Road\, Elizabethtown\, KY\, 42701
CATEGORIES:Arts & Entertainment,City Events,Community Events
END:VEVENT
BEGIN:VEVENT
DTSTART;TZID=UTC:20190906T200000
DTEND;TZID=UTC:20190906T220000
DTSTAMP:20260420T110413
CREATED:20190827T215310Z
LAST-MODIFIED:20190827T215310Z
UID:2266-1567800000-1567807200@kentuckysheartland.com
SUMMARY:Movie In The Park "Ralph Breaks The Internet"
DESCRIPTION:
URL:https://kentuckysheartland.com/event/movie-in-the-park-ralph-breaks-the-internet-3/
LOCATION:Freeman Lake Park\, 212 Freeman Lake Park Road\, Elizabethtown\, KY\, 42701
CATEGORIES:Arts & Entertainment,City Events,Community Events
END:VEVENT
END:VCALENDAR