BEGIN:VCALENDAR
VERSION:2.0
PRODID:-//KENTUCKY&#039;S HEARTLAND - ECPv6.15.20//NONSGML v1.0//EN
CALSCALE:GREGORIAN
METHOD:PUBLISH
X-ORIGINAL-URL:https://kentuckysheartland.com
X-WR-CALDESC:Events for KENTUCKY&#039;S HEARTLAND
REFRESH-INTERVAL;VALUE=DURATION:PT1H
X-Robots-Tag:noindex
X-PUBLISHED-TTL:PT1H
BEGIN:VTIMEZONE
TZID:America/Halifax
BEGIN:DAYLIGHT
TZOFFSETFROM:-0400
TZOFFSETTO:-0300
TZNAME:ADT
DTSTART:20230312T060000
END:DAYLIGHT
BEGIN:STANDARD
TZOFFSETFROM:-0300
TZOFFSETTO:-0400
TZNAME:AST
DTSTART:20231105T050000
END:STANDARD
BEGIN:DAYLIGHT
TZOFFSETFROM:-0400
TZOFFSETTO:-0300
TZNAME:ADT
DTSTART:20240310T060000
END:DAYLIGHT
BEGIN:STANDARD
TZOFFSETFROM:-0300
TZOFFSETTO:-0400
TZNAME:AST
DTSTART:20241103T050000
END:STANDARD
BEGIN:DAYLIGHT
TZOFFSETFROM:-0400
TZOFFSETTO:-0300
TZNAME:ADT
DTSTART:20250309T060000
END:DAYLIGHT
BEGIN:STANDARD
TZOFFSETFROM:-0300
TZOFFSETTO:-0400
TZNAME:AST
DTSTART:20251102T050000
END:STANDARD
END:VTIMEZONE
BEGIN:VEVENT
DTSTART;TZID=America/Halifax:20241102T120000
DTEND;TZID=America/Halifax:20241102T200000
DTSTAMP:20260421T091448
CREATED:20241101T104852Z
LAST-MODIFIED:20241101T115621Z
UID:5028-1730548800-1730577600@kentuckysheartland.com
SUMMARY:West Point River Days (Rescheduled Date)
DESCRIPTION:After Hurricane Helene halted the September festivities\, West Point is bringing back River Days for a one-day\, action-packed fall celebration! Families can enjoy free bounce houses\, live music\, food trucks\, a variety of vendors\, a mullet contest\, and a grand fireworks finale. A silent auction will also be held\, offering unique items for bidding. \nSet in the scenic Veterans Memorial Park\, the event will showcase the vibrant fall colors across town\, providing a beautiful backdrop for a day filled with fun and community spirit. Come celebrate West Point’s River Days in true fall fashion!
URL:https://kentuckysheartland.com/event/west-point-river-days-rescheduled-date/
LOCATION:Veterans Memorial Park\, 6th & Elm Streets\, West Point\, Kentucky\, 40177
CATEGORIES:City Events,Community Events
END:VEVENT
END:VCALENDAR