BEGIN:VCALENDAR
VERSION:2.0
PRODID:-//KENTUCKY&#039;S HEARTLAND - ECPv6.15.20//NONSGML v1.0//EN
CALSCALE:GREGORIAN
METHOD:PUBLISH
X-ORIGINAL-URL:https://kentuckysheartland.com
X-WR-CALDESC:Events for KENTUCKY&#039;S HEARTLAND
REFRESH-INTERVAL;VALUE=DURATION:PT1H
X-Robots-Tag:noindex
X-PUBLISHED-TTL:PT1H
BEGIN:VTIMEZONE
TZID:UTC
BEGIN:STANDARD
TZOFFSETFROM:+0000
TZOFFSETTO:+0000
TZNAME:UTC
DTSTART:20190101T000000
END:STANDARD
END:VTIMEZONE
BEGIN:VEVENT
DTSTART;TZID=UTC:20200116T190000
DTEND;TZID=UTC:20200116T210000
DTSTAMP:20260420T184833
CREATED:20191112T002043Z
LAST-MODIFIED:20191112T002116Z
UID:1062-1579201200-1579208400@kentuckysheartland.com
SUMMARY:The Novel Adventures of Sherlock Holmes\, The Sign of Four
DESCRIPTION:“An injured lady\, a half a million in treasure\, a cannibal\, and a wooden-legged ruffian – It is a romance!” \nThe year is 1888.  The strange disappearance of her father\, a mysterious note\, and the annual delivery of valuable pearls\, brings a woman in search of the world’s only consulting detective in this PAC ProAm Classical adaptation of the second Holmes novel\, “The Sign of Four”.\n\nVisit HERE for more information and tickets.
URL:https://kentuckysheartland.com/event/the-novel-adventures-of-sherlock-holmes-the-sign-of-four/2020-01-16/
LOCATION:Hardin County Schools Peforming Arts Center\, 384 W A Jenkins Road\, Elizabethtown\, Kentucky\, 42701
CATEGORIES:Arts & Entertainment,Community Events
ATTACH;FMTTYPE=image/jpeg:https://kentuckysheartland.com/wp-content/uploads/2019/11/Sherlock-Holmes.jpg
END:VEVENT
BEGIN:VEVENT
DTSTART;TZID=UTC:20200116T190000
DTEND;TZID=UTC:20200116T210000
DTSTAMP:20260420T184833
CREATED:20191112T002043Z
LAST-MODIFIED:20191112T002043Z
UID:1917-1579201200-1579208400@kentuckysheartland.com
SUMMARY:The Novel Adventures of Sherlock Holmes\, The Sign of Four
DESCRIPTION:“An injured lady\, a half a million in treasure\, a cannibal\, and a wooden-legged ruffian – It is a romance!” \nThe year is 1888.  The strange disappearance of her father\, a mysterious note\, and the annual delivery of valuable pearls\, brings a woman in search of the world’s only consulting detective in this PAC ProAm Classical adaptation of the second Holmes novel\, “The Sign of Four”.\n\nVisit HERE for more information and tickets.
URL:https://kentuckysheartland.com/event/the-novel-adventures-of-sherlock-holmes-the-sign-of-four-2/2020-01-16/
LOCATION:Hardin County Schools Peforming Arts Center\, 384 W A Jenkins Road\, Elizabethtown\, Kentucky\, 42701
CATEGORIES:Arts & Entertainment,Community Events
ATTACH;FMTTYPE=image/jpeg:https://kentuckysheartland.com/wp-content/uploads/2019/11/Sherlock-Holmes.jpg
END:VEVENT
BEGIN:VEVENT
DTSTART;TZID=UTC:20200116T190000
DTEND;TZID=UTC:20200116T210000
DTSTAMP:20260420T184833
CREATED:20191112T002043Z
LAST-MODIFIED:20191112T002043Z
UID:2405-1579201200-1579208400@kentuckysheartland.com
SUMMARY:The Novel Adventures of Sherlock Holmes\, The Sign of Four
DESCRIPTION:“An injured lady\, a half a million in treasure\, a cannibal\, and a wooden-legged ruffian – It is a romance!” \nThe year is 1888.  The strange disappearance of her father\, a mysterious note\, and the annual delivery of valuable pearls\, brings a woman in search of the world’s only consulting detective in this PAC ProAm Classical adaptation of the second Holmes novel\, “The Sign of Four”.\n\nVisit HERE for more information and tickets.
URL:https://kentuckysheartland.com/event/the-novel-adventures-of-sherlock-holmes-the-sign-of-four-3/2020-01-16/
LOCATION:Hardin County Schools Peforming Arts Center\, 384 W A Jenkins Road\, Elizabethtown\, Kentucky\, 42701
CATEGORIES:Arts & Entertainment,Community Events
ATTACH;FMTTYPE=image/jpeg:https://kentuckysheartland.com/wp-content/uploads/2019/11/Sherlock-Holmes.jpg
END:VEVENT
BEGIN:VEVENT
DTSTART;TZID=UTC:20200125T090000
DTEND;TZID=UTC:20200125T120000
DTSTAMP:20260420T184833
CREATED:20200124T202438Z
LAST-MODIFIED:20200124T202438Z
UID:1138-1579942800-1579953600@kentuckysheartland.com
SUMMARY:10th Annual Radcliff Mayor's Breakfast
DESCRIPTION:The 10th Annual Radcliff Mayor’s Breakfast is a FREE event open to the General Public. The breakfast is sponsored by local businesses and community organizations and draws a large crowd each year. Stop by and enjoy a tasty breakfast\, entertainment\, great conversation\, and door prizes.
URL:https://kentuckysheartland.com/event/10th-annual-radcliff-mayors-breakfast/
LOCATION:Colvin Community Center\, 230 Freedoms Way\, Radcliff\, Kentucky\, 40160
CATEGORIES:City Events,Community Events
END:VEVENT
BEGIN:VEVENT
DTSTART;TZID=UTC:20200125T090000
DTEND;TZID=UTC:20200125T120000
DTSTAMP:20260420T184833
CREATED:20200124T202438Z
LAST-MODIFIED:20200124T202438Z
UID:1943-1579942800-1579953600@kentuckysheartland.com
SUMMARY:10th Annual Radcliff Mayor's Breakfast
DESCRIPTION:The 10th Annual Radcliff Mayor’s Breakfast is a FREE event open to the General Public. The breakfast is sponsored by local businesses and community organizations and draws a large crowd each year. Stop by and enjoy a tasty breakfast\, entertainment\, great conversation\, and door prizes.
URL:https://kentuckysheartland.com/event/10th-annual-radcliff-mayors-breakfast-2/
LOCATION:Colvin Community Center\, 230 Freedoms Way\, Radcliff\, Kentucky\, 40160
CATEGORIES:City Events,Community Events
END:VEVENT
BEGIN:VEVENT
DTSTART;TZID=UTC:20200125T090000
DTEND;TZID=UTC:20200125T120000
DTSTAMP:20260420T184833
CREATED:20200124T202438Z
LAST-MODIFIED:20200124T202438Z
UID:2431-1579942800-1579953600@kentuckysheartland.com
SUMMARY:10th Annual Radcliff Mayor's Breakfast
DESCRIPTION:The 10th Annual Radcliff Mayor’s Breakfast is a FREE event open to the General Public. The breakfast is sponsored by local businesses and community organizations and draws a large crowd each year. Stop by and enjoy a tasty breakfast\, entertainment\, great conversation\, and door prizes.
URL:https://kentuckysheartland.com/event/10th-annual-radcliff-mayors-breakfast-3/
LOCATION:Colvin Community Center\, 230 Freedoms Way\, Radcliff\, Kentucky\, 40160
CATEGORIES:City Events,Community Events
END:VEVENT
BEGIN:VEVENT
DTSTART;VALUE=DATE:20200201
DTEND;VALUE=DATE:20200202
DTSTAMP:20260420T184833
CREATED:20200106T213455Z
LAST-MODIFIED:20200106T213534Z
UID:1123-1580515200-1580601599@kentuckysheartland.com
SUMMARY:E-town NFL Flag Football League
DESCRIPTION:
URL:https://kentuckysheartland.com/event/e-town-nfl-flag-football-league/
LOCATION:Elizabethtown High School\, 620 North Mulberry Street\, Elizabethtown\, Kentucky\, 42701
CATEGORIES:Community Events,Fitness Events
END:VEVENT
BEGIN:VEVENT
DTSTART;VALUE=DATE:20200201
DTEND;VALUE=DATE:20200202
DTSTAMP:20260420T184834
CREATED:20200106T213455Z
LAST-MODIFIED:20200106T213455Z
UID:1942-1580515200-1580601599@kentuckysheartland.com
SUMMARY:E-town NFL Flag Football League
DESCRIPTION:
URL:https://kentuckysheartland.com/event/e-town-nfl-flag-football-league-2/
LOCATION:Elizabethtown High School\, 620 North Mulberry Street\, Elizabethtown\, Kentucky\, 42701
CATEGORIES:Community Events,Fitness Events
END:VEVENT
BEGIN:VEVENT
DTSTART;VALUE=DATE:20200201
DTEND;VALUE=DATE:20200202
DTSTAMP:20260420T184834
CREATED:20200106T213455Z
LAST-MODIFIED:20200106T213455Z
UID:2430-1580515200-1580601599@kentuckysheartland.com
SUMMARY:E-town NFL Flag Football League
DESCRIPTION:
URL:https://kentuckysheartland.com/event/e-town-nfl-flag-football-league-3/
LOCATION:Elizabethtown High School\, 620 North Mulberry Street\, Elizabethtown\, Kentucky\, 42701
CATEGORIES:Community Events,Fitness Events
END:VEVENT
BEGIN:VEVENT
DTSTART;TZID=UTC:20200204T190000
DTEND;TZID=UTC:20200204T210000
DTSTAMP:20260420T184834
CREATED:20200211T210716Z
LAST-MODIFIED:20200211T210716Z
UID:1159-1580842800-1580850000@kentuckysheartland.com
SUMMARY:Flywheel Road To March Madness Trivia League
DESCRIPTION:The road to excellence begins. Running 2/4-3/24 is Flywheel’s newest Trivia League. They’re back to an 8 week season to crown a champion and this season’s theme will be about all of our favorite time of year: March Madness. It’s FREE to play and teams max out at 6 people (but if you feel the need for more help\, it’s cool\, we’ll just deduct points from each additional team member you have). Don’t worry about dinner\, we have a food truck on-site every Tuesday night so your night is planned. Trivia starts at 7:00 pm every Tuesday.
URL:https://kentuckysheartland.com/event/flywheel-road-to-march-madness-trivia-league/2020-02-04/
LOCATION:Flywheel Brewing\, 218 South Mulberry Street\, Elizabethtown\, Kentucky\, 42701
CATEGORIES:Arts & Entertainment,Community Events
END:VEVENT
BEGIN:VEVENT
DTSTART;TZID=UTC:20200204T190000
DTEND;TZID=UTC:20200204T210000
DTSTAMP:20260420T184834
CREATED:20200211T210716Z
LAST-MODIFIED:20200211T210716Z
UID:1945-1580842800-1580850000@kentuckysheartland.com
SUMMARY:Flywheel Road To March Madness Trivia League
DESCRIPTION:The road to excellence begins. Running 2/4-3/24 is Flywheel’s newest Trivia League. They’re back to an 8 week season to crown a champion and this season’s theme will be about all of our favorite time of year: March Madness. It’s FREE to play and teams max out at 6 people (but if you feel the need for more help\, it’s cool\, we’ll just deduct points from each additional team member you have). Don’t worry about dinner\, we have a food truck on-site every Tuesday night so your night is planned. Trivia starts at 7:00 pm every Tuesday.
URL:https://kentuckysheartland.com/event/flywheel-road-to-march-madness-trivia-league-2/2020-02-04/
LOCATION:Flywheel Brewing\, 218 South Mulberry Street\, Elizabethtown\, Kentucky\, 42701
CATEGORIES:Arts & Entertainment,Community Events
END:VEVENT
BEGIN:VEVENT
DTSTART;TZID=UTC:20200204T190000
DTEND;TZID=UTC:20200204T210000
DTSTAMP:20260420T184834
CREATED:20200211T210716Z
LAST-MODIFIED:20200211T210716Z
UID:2433-1580842800-1580850000@kentuckysheartland.com
SUMMARY:Flywheel Road To March Madness Trivia League
DESCRIPTION:The road to excellence begins. Running 2/4-3/24 is Flywheel’s newest Trivia League. They’re back to an 8 week season to crown a champion and this season’s theme will be about all of our favorite time of year: March Madness. It’s FREE to play and teams max out at 6 people (but if you feel the need for more help\, it’s cool\, we’ll just deduct points from each additional team member you have). Don’t worry about dinner\, we have a food truck on-site every Tuesday night so your night is planned. Trivia starts at 7:00 pm every Tuesday.
URL:https://kentuckysheartland.com/event/flywheel-road-to-march-madness-trivia-league-3/2020-02-04/
LOCATION:Flywheel Brewing\, 218 South Mulberry Street\, Elizabethtown\, Kentucky\, 42701
CATEGORIES:Arts & Entertainment,Community Events
END:VEVENT
BEGIN:VEVENT
DTSTART;TZID=UTC:20200213T160000
DTEND;TZID=UTC:20200213T220000
DTSTAMP:20260420T184834
CREATED:20200211T210947Z
LAST-MODIFIED:20200211T210947Z
UID:1168-1581609600-1581631200@kentuckysheartland.com
SUMMARY:Galentines Day
DESCRIPTION:A holiday of ladies celebrating ladies (gentlemen may attend also). Come out with all your friends to enjoy: buy one bottle of wine get the next 1/2 off\, mimosa and Bloody Mary bar\, and $1 off all pints for all of the gals. Come out and make Leslie Nope proud.
URL:https://kentuckysheartland.com/event/galentines-day/
LOCATION:Flywheel Brewing\, 218 South Mulberry Street\, Elizabethtown\, Kentucky\, 42701
CATEGORIES:Community Events
END:VEVENT
BEGIN:VEVENT
DTSTART;TZID=UTC:20200213T160000
DTEND;TZID=UTC:20200213T220000
DTSTAMP:20260420T184834
CREATED:20200211T210947Z
LAST-MODIFIED:20200211T210947Z
UID:1953-1581609600-1581631200@kentuckysheartland.com
SUMMARY:Galentines Day
DESCRIPTION:A holiday of ladies celebrating ladies (gentlemen may attend also). Come out with all your friends to enjoy: buy one bottle of wine get the next 1/2 off\, mimosa and Bloody Mary bar\, and $1 off all pints for all of the gals. Come out and make Leslie Nope proud.
URL:https://kentuckysheartland.com/event/galentines-day-2/
LOCATION:Flywheel Brewing\, 218 South Mulberry Street\, Elizabethtown\, Kentucky\, 42701
CATEGORIES:Community Events
END:VEVENT
BEGIN:VEVENT
DTSTART;TZID=UTC:20200213T160000
DTEND;TZID=UTC:20200213T220000
DTSTAMP:20260420T184834
CREATED:20200211T210947Z
LAST-MODIFIED:20200211T210947Z
UID:2441-1581609600-1581631200@kentuckysheartland.com
SUMMARY:Galentines Day
DESCRIPTION:A holiday of ladies celebrating ladies (gentlemen may attend also). Come out with all your friends to enjoy: buy one bottle of wine get the next 1/2 off\, mimosa and Bloody Mary bar\, and $1 off all pints for all of the gals. Come out and make Leslie Nope proud.
URL:https://kentuckysheartland.com/event/galentines-day-3/
LOCATION:Flywheel Brewing\, 218 South Mulberry Street\, Elizabethtown\, Kentucky\, 42701
CATEGORIES:Community Events
END:VEVENT
BEGIN:VEVENT
DTSTART;TZID=UTC:20200214T180000
DTEND;TZID=UTC:20200214T233000
DTSTAMP:20260420T184834
CREATED:20200211T211253Z
LAST-MODIFIED:20200211T211253Z
UID:1169-1581703200-1581723000@kentuckysheartland.com
SUMMARY:Couple's Crawl
DESCRIPTION:Give your Valentine a night to remember with a one of the kind stroll around downtown Etown on Feb. 14. Collect hearts at participating locations and be entered for a prize. \nParticipating Locations include:\nImpellizzeri’s\nBourbon Barrel Tavern\nFlywheel Brewing\nWicked Eyed Woman
URL:https://kentuckysheartland.com/event/couples-crawl/
LOCATION:Kentucky
CATEGORIES:Community Events
END:VEVENT
BEGIN:VEVENT
DTSTART;TZID=UTC:20200214T180000
DTEND;TZID=UTC:20200214T233000
DTSTAMP:20260420T184834
CREATED:20200211T211253Z
LAST-MODIFIED:20200211T211253Z
UID:1954-1581703200-1581723000@kentuckysheartland.com
SUMMARY:Couple's Crawl
DESCRIPTION:Give your Valentine a night to remember with a one of the kind stroll around downtown Etown on Feb. 14. Collect hearts at participating locations and be entered for a prize. \nParticipating Locations include:\nImpellizzeri’s\nBourbon Barrel Tavern\nFlywheel Brewing\nWicked Eyed Woman
URL:https://kentuckysheartland.com/event/couples-crawl-2/
LOCATION:Kentucky
CATEGORIES:Community Events
END:VEVENT
BEGIN:VEVENT
DTSTART;TZID=UTC:20200214T180000
DTEND;TZID=UTC:20200214T233000
DTSTAMP:20260420T184834
CREATED:20200211T211253Z
LAST-MODIFIED:20200211T211253Z
UID:2442-1581703200-1581723000@kentuckysheartland.com
SUMMARY:Couple's Crawl
DESCRIPTION:Give your Valentine a night to remember with a one of the kind stroll around downtown Etown on Feb. 14. Collect hearts at participating locations and be entered for a prize. \nParticipating Locations include:\nImpellizzeri’s\nBourbon Barrel Tavern\nFlywheel Brewing\nWicked Eyed Woman
URL:https://kentuckysheartland.com/event/couples-crawl-3/
LOCATION:Kentucky
CATEGORIES:Community Events
END:VEVENT
BEGIN:VEVENT
DTSTART;TZID=UTC:20200222T190000
DTEND;TZID=UTC:20200222T210000
DTSTAMP:20260420T184834
CREATED:20200211T215433Z
LAST-MODIFIED:20200211T215458Z
UID:1173-1582398000-1582405200@kentuckysheartland.com
SUMMARY:Lest We Forget
DESCRIPTION:The Radcliff Veterans Center is proud to present “LEST WE FORGET” a concert by Nashville based Australian Award Winning Singer/Songwriter Tamara Stewart featuring a collection of songs co-written with residents of the Radcliff Veterans Center and recorded at the infamous House of Blues Studios in Nashville with the country music’s finest. \nTickets are $20 for Military/Veterans  $25 for General Admission
URL:https://kentuckysheartland.com/event/lest-we-forget/
LOCATION:Historic State Theater\, 209 West Dixie Avenue\, Elizabethtown\, Kentucky\, 42701
CATEGORIES:Arts & Entertainment,Community Events
ATTACH;FMTTYPE=image/jpeg:https://kentuckysheartland.com/wp-content/uploads/2020/02/Lest-We-Forget-Concert.jpg
END:VEVENT
BEGIN:VEVENT
DTSTART;TZID=UTC:20200222T190000
DTEND;TZID=UTC:20200222T210000
DTSTAMP:20260420T184834
CREATED:20200211T215433Z
LAST-MODIFIED:20200211T215433Z
UID:1957-1582398000-1582405200@kentuckysheartland.com
SUMMARY:Lest We Forget
DESCRIPTION:The Radcliff Veterans Center is proud to present “LEST WE FORGET” a concert by Nashville based Australian Award Winning Singer/Songwriter Tamara Stewart featuring a collection of songs co-written with residents of the Radcliff Veterans Center and recorded at the infamous House of Blues Studios in Nashville with the country music’s finest. \nTickets are $20 for Military/Veterans  $25 for General Admission
URL:https://kentuckysheartland.com/event/lest-we-forget-2/
LOCATION:Historic State Theater\, 209 West Dixie Avenue\, Elizabethtown\, Kentucky\, 42701
CATEGORIES:Arts & Entertainment,Community Events
ATTACH;FMTTYPE=image/jpeg:https://kentuckysheartland.com/wp-content/uploads/2020/02/Lest-We-Forget-Concert.jpg
END:VEVENT
BEGIN:VEVENT
DTSTART;TZID=UTC:20200222T190000
DTEND;TZID=UTC:20200222T210000
DTSTAMP:20260420T184834
CREATED:20200211T215433Z
LAST-MODIFIED:20200211T215433Z
UID:2445-1582398000-1582405200@kentuckysheartland.com
SUMMARY:Lest We Forget
DESCRIPTION:The Radcliff Veterans Center is proud to present “LEST WE FORGET” a concert by Nashville based Australian Award Winning Singer/Songwriter Tamara Stewart featuring a collection of songs co-written with residents of the Radcliff Veterans Center and recorded at the infamous House of Blues Studios in Nashville with the country music’s finest. \nTickets are $20 for Military/Veterans  $25 for General Admission
URL:https://kentuckysheartland.com/event/lest-we-forget-3/
LOCATION:Historic State Theater\, 209 West Dixie Avenue\, Elizabethtown\, Kentucky\, 42701
CATEGORIES:Arts & Entertainment,Community Events
ATTACH;FMTTYPE=image/jpeg:https://kentuckysheartland.com/wp-content/uploads/2020/02/Lest-We-Forget-Concert.jpg
END:VEVENT
BEGIN:VEVENT
DTSTART;TZID=UTC:20200223T110000
DTEND;TZID=UTC:20200223T130000
DTSTAMP:20260420T184834
CREATED:20200211T212109Z
LAST-MODIFIED:20200211T212109Z
UID:1171-1582455600-1582462800@kentuckysheartland.com
SUMMARY:Classic Movies: The Breakfast Club
DESCRIPTION:Check out Crowne Pointe’s upcoming Classic Movie\, The Breakfast Club! This film will show at 11:00 AM am and 1:20 pm on Sunday\, February 23. \nProceeds from this screening will benefit the Big Brothers Big Sisters of Kentuckiana. \n🎟️ Tickets for this screening will be $5. Tickets can be purchased using the link below.
URL:https://kentuckysheartland.com/event/classic-movies-the-breakfast-club/2020-02-23/
LOCATION:Crowne Pointe Theatre\, 2908 Dolphin Drive\, Elizabethtown\, Kentucky\, 42701
CATEGORIES:Arts & Entertainment,Community Events
END:VEVENT
BEGIN:VEVENT
DTSTART;TZID=UTC:20200223T110000
DTEND;TZID=UTC:20200223T130000
DTSTAMP:20260420T184834
CREATED:20200211T212109Z
LAST-MODIFIED:20200211T212109Z
UID:1955-1582455600-1582462800@kentuckysheartland.com
SUMMARY:Classic Movies: The Breakfast Club
DESCRIPTION:Check out Crowne Pointe’s upcoming Classic Movie\, The Breakfast Club! This film will show at 11:00 AM am and 1:20 pm on Sunday\, February 23. \nProceeds from this screening will benefit the Big Brothers Big Sisters of Kentuckiana. \n🎟️ Tickets for this screening will be $5. Tickets can be purchased using the link below.
URL:https://kentuckysheartland.com/event/classic-movies-the-breakfast-club-2/2020-02-23/
LOCATION:Crowne Pointe Theatre\, 2908 Dolphin Drive\, Elizabethtown\, Kentucky\, 42701
CATEGORIES:Arts & Entertainment,Community Events
END:VEVENT
BEGIN:VEVENT
DTSTART;TZID=UTC:20200223T110000
DTEND;TZID=UTC:20200223T130000
DTSTAMP:20260420T184834
CREATED:20200211T212109Z
LAST-MODIFIED:20200211T212109Z
UID:2443-1582455600-1582462800@kentuckysheartland.com
SUMMARY:Classic Movies: The Breakfast Club
DESCRIPTION:Check out Crowne Pointe’s upcoming Classic Movie\, The Breakfast Club! This film will show at 11:00 AM am and 1:20 pm on Sunday\, February 23. \nProceeds from this screening will benefit the Big Brothers Big Sisters of Kentuckiana. \n🎟️ Tickets for this screening will be $5. Tickets can be purchased using the link below.
URL:https://kentuckysheartland.com/event/classic-movies-the-breakfast-club-3/2020-02-23/
LOCATION:Crowne Pointe Theatre\, 2908 Dolphin Drive\, Elizabethtown\, Kentucky\, 42701
CATEGORIES:Arts & Entertainment,Community Events
END:VEVENT
BEGIN:VEVENT
DTSTART;TZID=UTC:20200306T190000
DTEND;TZID=UTC:20200306T210000
DTSTAMP:20260420T184834
CREATED:20200224T230013Z
LAST-MODIFIED:20200224T230013Z
UID:1182-1583521200-1583528400@kentuckysheartland.com
SUMMARY:CHHS Drama Club presents "Little Women"
DESCRIPTION:The Central Hardin High School Drama Club presents the Broadway Musical adaptation of the classic novel  “Little Women”\, featuring live music and student artwork\, choreography and technical crew. Public performances are  Friday\, March 6th at 7pm and Saturday\, March 7th at 4pm. \n  \nTickets are $5 at the door.
URL:https://kentuckysheartland.com/event/chhs-drama-club-presents-little-women/2020-03-06/
LOCATION:Hardin County Schools Peforming Arts Center\, 384 W A Jenkins Road\, Elizabethtown\, Kentucky\, 42701
CATEGORIES:Arts & Entertainment,Community Events,School Events
ORGANIZER;CN="Central Hardin High School Drama Club":MAILTO:sarah,dakin@hardin.kyschools.us
END:VEVENT
BEGIN:VEVENT
DTSTART;TZID=UTC:20200306T190000
DTEND;TZID=UTC:20200306T210000
DTSTAMP:20260420T184834
CREATED:20200224T230013Z
LAST-MODIFIED:20200224T230013Z
UID:1959-1583521200-1583528400@kentuckysheartland.com
SUMMARY:CHHS Drama Club presents "Little Women"
DESCRIPTION:The Central Hardin High School Drama Club presents the Broadway Musical adaptation of the classic novel  “Little Women”\, featuring live music and student artwork\, choreography and technical crew. Public performances are  Friday\, March 6th at 7pm and Saturday\, March 7th at 4pm. \n  \nTickets are $5 at the door.
URL:https://kentuckysheartland.com/event/chhs-drama-club-presents-little-women-2/2020-03-06/
LOCATION:Hardin County Schools Peforming Arts Center\, 384 W A Jenkins Road\, Elizabethtown\, Kentucky\, 42701
CATEGORIES:Arts & Entertainment,Community Events,School Events
ORGANIZER;CN="Central Hardin High School Drama Club":MAILTO:sarah,dakin@hardin.kyschools.us
END:VEVENT
BEGIN:VEVENT
DTSTART;TZID=UTC:20200306T190000
DTEND;TZID=UTC:20200306T210000
DTSTAMP:20260420T184834
CREATED:20200224T230013Z
LAST-MODIFIED:20200224T230013Z
UID:2447-1583521200-1583528400@kentuckysheartland.com
SUMMARY:CHHS Drama Club presents "Little Women"
DESCRIPTION:The Central Hardin High School Drama Club presents the Broadway Musical adaptation of the classic novel  “Little Women”\, featuring live music and student artwork\, choreography and technical crew. Public performances are  Friday\, March 6th at 7pm and Saturday\, March 7th at 4pm. \n  \nTickets are $5 at the door.
URL:https://kentuckysheartland.com/event/chhs-drama-club-presents-little-women-3/2020-03-06/
LOCATION:Hardin County Schools Peforming Arts Center\, 384 W A Jenkins Road\, Elizabethtown\, Kentucky\, 42701
CATEGORIES:Arts & Entertainment,Community Events,School Events
ORGANIZER;CN="Central Hardin High School Drama Club":MAILTO:sarah,dakin@hardin.kyschools.us
END:VEVENT
BEGIN:VEVENT
DTSTART;TZID=UTC:20200307T080000
DTEND;TZID=UTC:20200307T090000
DTSTAMP:20260420T184834
CREATED:20200224T230838Z
LAST-MODIFIED:20200224T231714Z
UID:1185-1583568000-1583571600@kentuckysheartland.com
SUMMARY:Justice For Alzheimers 5K
DESCRIPTION:Hardin County Teen Court presents the Justice for Alzheimer’s 5K.  A student-led race associated with the Hardin County Teen Court. The Justice for Alzheimer’s 5K is created by Hardin County Teen Court Students. \nThe run/walk will be on  Saturday\, March 7th at 8 AM at the Elizabethtown Sports Park. \nEarly Packet pick up will be on March 6th from 4 to 6pm at Running Soles in Downtown Elizabethtown. \nRegistration is $20 for Adults\, $15 for students and kids 8 and under run FREE.
URL:https://kentuckysheartland.com/event/justice-for-alzheimers-5k/
LOCATION:Elizabethtown Sports Park\, 1401 West Park Road\, Elizabethtown\, Kentucky\, 42701
CATEGORIES:Community Events,Fitness Events
END:VEVENT
BEGIN:VEVENT
DTSTART;TZID=UTC:20200307T080000
DTEND;TZID=UTC:20200307T090000
DTSTAMP:20260420T184834
CREATED:20200224T230838Z
LAST-MODIFIED:20200224T230838Z
UID:1961-1583568000-1583571600@kentuckysheartland.com
SUMMARY:Justice For Alzheimers 5K
DESCRIPTION:Hardin County Teen Court presents the Justice for Alzheimer’s 5K.  A student-led race associated with the Hardin County Teen Court. The Justice for Alzheimer’s 5K is created by Hardin County Teen Court Students. \nThe run/walk will be on  Saturday\, March 7th at 8 AM at the Elizabethtown Sports Park. \nEarly Packet pick up will be on March 6th from 4 to 6pm at Running Soles in Downtown Elizabethtown. \nRegistration is $20 for Adults\, $15 for students and kids 8 and under run FREE.
URL:https://kentuckysheartland.com/event/justice-for-alzheimers-5k-2/
LOCATION:Elizabethtown Sports Park\, 1401 West Park Road\, Elizabethtown\, Kentucky\, 42701
CATEGORIES:Community Events,Fitness Events
END:VEVENT
BEGIN:VEVENT
DTSTART;TZID=UTC:20200307T080000
DTEND;TZID=UTC:20200307T090000
DTSTAMP:20260420T184834
CREATED:20200224T230838Z
LAST-MODIFIED:20200224T230838Z
UID:2449-1583568000-1583571600@kentuckysheartland.com
SUMMARY:Justice For Alzheimers 5K
DESCRIPTION:Hardin County Teen Court presents the Justice for Alzheimer’s 5K.  A student-led race associated with the Hardin County Teen Court. The Justice for Alzheimer’s 5K is created by Hardin County Teen Court Students. \nThe run/walk will be on  Saturday\, March 7th at 8 AM at the Elizabethtown Sports Park. \nEarly Packet pick up will be on March 6th from 4 to 6pm at Running Soles in Downtown Elizabethtown. \nRegistration is $20 for Adults\, $15 for students and kids 8 and under run FREE.
URL:https://kentuckysheartland.com/event/justice-for-alzheimers-5k-3/
LOCATION:Elizabethtown Sports Park\, 1401 West Park Road\, Elizabethtown\, Kentucky\, 42701
CATEGORIES:Community Events,Fitness Events
END:VEVENT
END:VCALENDAR