BEGIN:VCALENDAR
VERSION:2.0
PRODID:-//KENTUCKY&#039;S HEARTLAND - ECPv6.15.20//NONSGML v1.0//EN
CALSCALE:GREGORIAN
METHOD:PUBLISH
X-ORIGINAL-URL:https://kentuckysheartland.com
X-WR-CALDESC:Events for KENTUCKY&#039;S HEARTLAND
REFRESH-INTERVAL;VALUE=DURATION:PT1H
X-Robots-Tag:noindex
X-PUBLISHED-TTL:PT1H
BEGIN:VTIMEZONE
TZID:UTC
BEGIN:STANDARD
TZOFFSETFROM:+0000
TZOFFSETTO:+0000
TZNAME:UTC
DTSTART:20190101T000000
END:STANDARD
END:VTIMEZONE
BEGIN:VEVENT
DTSTART;TZID=UTC:20200101T090000
DTEND;TZID=UTC:20200101T100000
DTSTAMP:20260420T172117
CREATED:20191216T210055Z
LAST-MODIFIED:20191216T210211Z
UID:1115-1577869200-1577872800@kentuckysheartland.com
SUMMARY:The New Year's Day Dash 5K Run/Walk
DESCRIPTION:We know that you plan on enjoying a great evening celebrating the new year with family and friends but we also know you want to start the new year off right by getting your exercise on! Join us for the New Years Dash 5K Fun Run/Walk Wednesday\, January 1st at a brand new location The Elizabethtown Sports Park (Covered pavilion\, super runner friend course\, and HEATED bathrooms)! Proceeds from this race benefit our friends at Spring Haven Domestic Violence Shelter. \nGet all dressed up in either your pajamas or your New Year’s Outfit and shine like the rockstar we know you are! We’ll give out prizes to some of our best-dressed participants.
URL:https://kentuckysheartland.com/event/the-new-years-day-dash-5k-run-walk/
LOCATION:Elizabethtown Sports Park\, 1401 West Park Road\, Elizabethtown\, Kentucky\, 42701
CATEGORIES:Community Events,Fitness Events
END:VEVENT
BEGIN:VEVENT
DTSTART;TZID=UTC:20200101T090000
DTEND;TZID=UTC:20200101T100000
DTSTAMP:20260420T172117
CREATED:20191216T210055Z
LAST-MODIFIED:20191216T210055Z
UID:1941-1577869200-1577872800@kentuckysheartland.com
SUMMARY:The New Year's Day Dash 5K Run/Walk
DESCRIPTION:We know that you plan on enjoying a great evening celebrating the new year with family and friends but we also know you want to start the new year off right by getting your exercise on! Join us for the New Years Dash 5K Fun Run/Walk Wednesday\, January 1st at a brand new location The Elizabethtown Sports Park (Covered pavilion\, super runner friend course\, and HEATED bathrooms)! Proceeds from this race benefit our friends at Spring Haven Domestic Violence Shelter. \nGet all dressed up in either your pajamas or your New Year’s Outfit and shine like the rockstar we know you are! We’ll give out prizes to some of our best-dressed participants.
URL:https://kentuckysheartland.com/event/the-new-years-day-dash-5k-run-walk-2/
LOCATION:Elizabethtown Sports Park\, 1401 West Park Road\, Elizabethtown\, Kentucky\, 42701
CATEGORIES:Community Events,Fitness Events
END:VEVENT
BEGIN:VEVENT
DTSTART;TZID=UTC:20200101T090000
DTEND;TZID=UTC:20200101T100000
DTSTAMP:20260420T172117
CREATED:20191216T210055Z
LAST-MODIFIED:20191216T210055Z
UID:2429-1577869200-1577872800@kentuckysheartland.com
SUMMARY:The New Year's Day Dash 5K Run/Walk
DESCRIPTION:We know that you plan on enjoying a great evening celebrating the new year with family and friends but we also know you want to start the new year off right by getting your exercise on! Join us for the New Years Dash 5K Fun Run/Walk Wednesday\, January 1st at a brand new location The Elizabethtown Sports Park (Covered pavilion\, super runner friend course\, and HEATED bathrooms)! Proceeds from this race benefit our friends at Spring Haven Domestic Violence Shelter. \nGet all dressed up in either your pajamas or your New Year’s Outfit and shine like the rockstar we know you are! We’ll give out prizes to some of our best-dressed participants.
URL:https://kentuckysheartland.com/event/the-new-years-day-dash-5k-run-walk-3/
LOCATION:Elizabethtown Sports Park\, 1401 West Park Road\, Elizabethtown\, Kentucky\, 42701
CATEGORIES:Community Events,Fitness Events
END:VEVENT
END:VCALENDAR