BEGIN:VCALENDAR
VERSION:2.0
PRODID:-//KENTUCKY&#039;S HEARTLAND - ECPv6.15.20//NONSGML v1.0//EN
CALSCALE:GREGORIAN
METHOD:PUBLISH
X-ORIGINAL-URL:https://kentuckysheartland.com
X-WR-CALDESC:Events for KENTUCKY&#039;S HEARTLAND
REFRESH-INTERVAL;VALUE=DURATION:PT1H
X-Robots-Tag:noindex
X-PUBLISHED-TTL:PT1H
BEGIN:VTIMEZONE
TZID:UTC
BEGIN:STANDARD
TZOFFSETFROM:+0000
TZOFFSETTO:+0000
TZNAME:UTC
DTSTART:20210101T000000
END:STANDARD
END:VTIMEZONE
BEGIN:VEVENT
DTSTART;TZID=UTC:20220318T173000
DTEND;TZID=UTC:20220318T173000
DTSTAMP:20260420T123954
CREATED:20220223T012742Z
LAST-MODIFIED:20220223T012742Z
UID:3093-1647624600-1647624600@kentuckysheartland.com
SUMMARY:Shamrock Shuffle 5K
DESCRIPTION:The MWR Fort Knox Race Series is set to host its first race of the year as the Shamrock Shuffle 5K kicks off at the Samuel Adams Brewhouse. In addition to the race\, a Saint Patrick’s Day-themed costume contest also will take place and prizes for best costume will be given out before the race. The costume contest is set for 5:20 p.m.\, a safety brief will take place at 5:25 and the race will begin at 5:30. The event is $20 for those 13 and up\, $15 for those ages five to 12 and free to those five and under.
URL:https://kentuckysheartland.com/event/shamrock-shuffle-5k/
LOCATION:Samuel Adams Brewhouse\, 2723 Spearhead Division Loop\, Fort Knox\, Kentucky\, 40121
CATEGORIES:Fitness Events
END:VEVENT
END:VCALENDAR