BEGIN:VCALENDAR
VERSION:2.0
PRODID:-//KENTUCKY&#039;S HEARTLAND - ECPv6.15.20//NONSGML v1.0//EN
CALSCALE:GREGORIAN
METHOD:PUBLISH
X-WR-CALNAME:KENTUCKY&#039;S HEARTLAND
X-ORIGINAL-URL:https://kentuckysheartland.com
X-WR-CALDESC:Events for KENTUCKY&#039;S HEARTLAND
REFRESH-INTERVAL;VALUE=DURATION:PT1H
X-Robots-Tag:noindex
X-PUBLISHED-TTL:PT1H
BEGIN:VTIMEZONE
TZID:America/Halifax
BEGIN:DAYLIGHT
TZOFFSETFROM:-0400
TZOFFSETTO:-0300
TZNAME:ADT
DTSTART:20230312T060000
END:DAYLIGHT
BEGIN:STANDARD
TZOFFSETFROM:-0300
TZOFFSETTO:-0400
TZNAME:AST
DTSTART:20231105T050000
END:STANDARD
BEGIN:DAYLIGHT
TZOFFSETFROM:-0400
TZOFFSETTO:-0300
TZNAME:ADT
DTSTART:20240310T060000
END:DAYLIGHT
BEGIN:STANDARD
TZOFFSETFROM:-0300
TZOFFSETTO:-0400
TZNAME:AST
DTSTART:20241103T050000
END:STANDARD
BEGIN:DAYLIGHT
TZOFFSETFROM:-0400
TZOFFSETTO:-0300
TZNAME:ADT
DTSTART:20250309T060000
END:DAYLIGHT
BEGIN:STANDARD
TZOFFSETFROM:-0300
TZOFFSETTO:-0400
TZNAME:AST
DTSTART:20251102T050000
END:STANDARD
END:VTIMEZONE
BEGIN:VEVENT
DTSTART;TZID=America/Halifax:20240731T200000
DTEND;TZID=America/Halifax:20240731T213000
DTSTAMP:20260421T210302
CREATED:20240110T142859Z
LAST-MODIFIED:20240409T172335Z
UID:4475-1722456000-1722461400@kentuckysheartland.com
SUMMARY:Disney's The Little Mermaid
DESCRIPTION:
URL:https://kentuckysheartland.com/event/disneys-the-little-mermaid/2024-07-31/
LOCATION:Stephen Foster Amphiteater\, 411 E. Stephen Foster Avenue\, Bardstown\, KY\, 40004\, United States
CATEGORIES:Arts & Entertainment,Business Events,Community Events,Hardin County,Nelson County,School Events
ATTACH;FMTTYPE=image/jpeg:https://kentuckysheartland.com/wp-content/uploads/2024/01/Little-Mermaid-Graphic.jpg
ORGANIZER;CN="Stephen Foster Drama Association":MAILTO:info@stephenfoster.com
END:VEVENT
BEGIN:VEVENT
DTSTART;TZID=America/Halifax:20240802T200000
DTEND;TZID=America/Halifax:20240802T213000
DTSTAMP:20260421T210302
CREATED:20240110T142859Z
LAST-MODIFIED:20240409T172337Z
UID:4476-1722628800-1722634200@kentuckysheartland.com
SUMMARY:Disney's The Little Mermaid
DESCRIPTION:
URL:https://kentuckysheartland.com/event/disneys-the-little-mermaid/2024-08-02/
LOCATION:Stephen Foster Amphiteater\, 411 E. Stephen Foster Avenue\, Bardstown\, KY\, 40004\, United States
CATEGORIES:Arts & Entertainment,Business Events,Community Events,Hardin County,Nelson County,School Events
ATTACH;FMTTYPE=image/jpeg:https://kentuckysheartland.com/wp-content/uploads/2024/01/Little-Mermaid-Graphic.jpg
ORGANIZER;CN="Stephen Foster Drama Association":MAILTO:info@stephenfoster.com
END:VEVENT
END:VCALENDAR