BEGIN:VCALENDAR
VERSION:2.0
PRODID:-//KENTUCKY&#039;S HEARTLAND - ECPv6.15.20//NONSGML v1.0//EN
CALSCALE:GREGORIAN
METHOD:PUBLISH
X-WR-CALNAME:KENTUCKY&#039;S HEARTLAND
X-ORIGINAL-URL:https://kentuckysheartland.com
X-WR-CALDESC:Events for KENTUCKY&#039;S HEARTLAND
REFRESH-INTERVAL;VALUE=DURATION:PT1H
X-Robots-Tag:noindex
X-PUBLISHED-TTL:PT1H
BEGIN:VTIMEZONE
TZID:America/New_York
BEGIN:DAYLIGHT
TZOFFSETFROM:-0500
TZOFFSETTO:-0400
TZNAME:EDT
DTSTART:20220313T070000
END:DAYLIGHT
BEGIN:STANDARD
TZOFFSETFROM:-0400
TZOFFSETTO:-0500
TZNAME:EST
DTSTART:20221106T060000
END:STANDARD
BEGIN:DAYLIGHT
TZOFFSETFROM:-0500
TZOFFSETTO:-0400
TZNAME:EDT
DTSTART:20230312T070000
END:DAYLIGHT
BEGIN:STANDARD
TZOFFSETFROM:-0400
TZOFFSETTO:-0500
TZNAME:EST
DTSTART:20231105T060000
END:STANDARD
BEGIN:DAYLIGHT
TZOFFSETFROM:-0500
TZOFFSETTO:-0400
TZNAME:EDT
DTSTART:20240310T070000
END:DAYLIGHT
BEGIN:STANDARD
TZOFFSETFROM:-0400
TZOFFSETTO:-0500
TZNAME:EST
DTSTART:20241103T060000
END:STANDARD
END:VTIMEZONE
BEGIN:VTIMEZONE
TZID:UTC
BEGIN:STANDARD
TZOFFSETFROM:+0000
TZOFFSETTO:+0000
TZNAME:UTC
DTSTART:20180101T000000
END:STANDARD
END:VTIMEZONE
BEGIN:VEVENT
DTSTART;TZID=America/New_York:20230811T180000
DTEND;TZID=America/New_York:20230811T203000
DTSTAMP:20260420T142923
CREATED:20230801T005531Z
LAST-MODIFIED:20230801T005531Z
UID:4136-1691776800-1691785800@kentuckysheartland.com
SUMMARY:Cecilia Days
DESCRIPTION:
URL:https://kentuckysheartland.com/event/cecilia-days-4/2023-08-11/
LOCATION:Downtown Cecilia
CATEGORIES:Community Events
ATTACH;FMTTYPE=image/jpeg:https://kentuckysheartland.com/wp-content/uploads/2023/07/Cecilia-Map.jpg
END:VEVENT
BEGIN:VEVENT
DTSTART;TZID=UTC:20190809T180000
DTEND;TZID=UTC:20190810T203000
DTSTAMP:20260420T142923
CREATED:20190805T173831Z
LAST-MODIFIED:20190805T173831Z
UID:674-1565373600-1565469000@kentuckysheartland.com
SUMMARY:Cecilia Days
DESCRIPTION:Friday\, August 9th \n6pm-7:30pm   Fish Plate Dinner & BBQ Sandwiches \n6pm        Baby Contest \n7:30pm  Little Miss/Master\, Princess\, Junior Miss & Miss Cecilia Pageants \nDARK    Fireworks \n  \nSaturday\, August 10th \n7:30am  Cecilia Days 5K Run/Walk \n7am-10am   Breakfast at Cecilia Baptist Church \n1oam      Cecilia Days Parade \n11am-3pm   BBQ Chicken Dinner \n11:30am     Ablaze Interpretive Movement Group \n12pm        Tractor Display/Games \n12:30pm-1:15pm   Magician Aaron Harp \n1pm-2pm    Car Show Judging \n1:30pm-2:15pm   Kevin Jaggers Acoustic Show \n2:30pm-3pm    Sack Races & Egg Toss \n3pm-4:30pm   Auction of Cakes & Donated Items \n5:50pm-6pm   Community Service Award \n6pm-7:30pm   The Bar Nuns Band \n7:30pm    Cecilia Days Drawing / Honorary Mayor Announcement \n7:30pm   Heart Of Kentucky Men’s Chorus
URL:https://kentuckysheartland.com/event/cecilia-days/
LOCATION:Downtown Cecilia
CATEGORIES:Community Events
END:VEVENT
BEGIN:VEVENT
DTSTART;TZID=UTC:20190809T180000
DTEND;TZID=UTC:20190810T203000
DTSTAMP:20260420T142923
CREATED:20190805T173831Z
LAST-MODIFIED:20190805T173831Z
UID:1761-1565373600-1565469000@kentuckysheartland.com
SUMMARY:Cecilia Days
DESCRIPTION:Friday\, August 9th \n6pm-7:30pm   Fish Plate Dinner & BBQ Sandwiches \n6pm        Baby Contest \n7:30pm  Little Miss/Master\, Princess\, Junior Miss & Miss Cecilia Pageants \nDARK    Fireworks \n  \nSaturday\, August 10th \n7:30am  Cecilia Days 5K Run/Walk \n7am-10am   Breakfast at Cecilia Baptist Church \n1oam      Cecilia Days Parade \n11am-3pm   BBQ Chicken Dinner \n11:30am     Ablaze Interpretive Movement Group \n12pm        Tractor Display/Games \n12:30pm-1:15pm   Magician Aaron Harp \n1pm-2pm    Car Show Judging \n1:30pm-2:15pm   Kevin Jaggers Acoustic Show \n2:30pm-3pm    Sack Races & Egg Toss \n3pm-4:30pm   Auction of Cakes & Donated Items \n5:50pm-6pm   Community Service Award \n6pm-7:30pm   The Bar Nuns Band \n7:30pm    Cecilia Days Drawing / Honorary Mayor Announcement \n7:30pm   Heart Of Kentucky Men’s Chorus
URL:https://kentuckysheartland.com/event/cecilia-days-2/
LOCATION:Downtown Cecilia
CATEGORIES:Community Events
END:VEVENT
BEGIN:VEVENT
DTSTART;TZID=UTC:20190809T180000
DTEND;TZID=UTC:20190810T203000
DTSTAMP:20260420T142923
CREATED:20190805T173831Z
LAST-MODIFIED:20190805T173831Z
UID:2249-1565373600-1565469000@kentuckysheartland.com
SUMMARY:Cecilia Days
DESCRIPTION:Friday\, August 9th \n6pm-7:30pm   Fish Plate Dinner & BBQ Sandwiches \n6pm        Baby Contest \n7:30pm  Little Miss/Master\, Princess\, Junior Miss & Miss Cecilia Pageants \nDARK    Fireworks \n  \nSaturday\, August 10th \n7:30am  Cecilia Days 5K Run/Walk \n7am-10am   Breakfast at Cecilia Baptist Church \n1oam      Cecilia Days Parade \n11am-3pm   BBQ Chicken Dinner \n11:30am     Ablaze Interpretive Movement Group \n12pm        Tractor Display/Games \n12:30pm-1:15pm   Magician Aaron Harp \n1pm-2pm    Car Show Judging \n1:30pm-2:15pm   Kevin Jaggers Acoustic Show \n2:30pm-3pm    Sack Races & Egg Toss \n3pm-4:30pm   Auction of Cakes & Donated Items \n5:50pm-6pm   Community Service Award \n6pm-7:30pm   The Bar Nuns Band \n7:30pm    Cecilia Days Drawing / Honorary Mayor Announcement \n7:30pm   Heart Of Kentucky Men’s Chorus
URL:https://kentuckysheartland.com/event/cecilia-days-3/
LOCATION:Downtown Cecilia
CATEGORIES:Community Events
END:VEVENT
END:VCALENDAR