BEGIN:VCALENDAR
VERSION:2.0
PRODID:-//KENTUCKY&#039;S HEARTLAND - ECPv6.15.20//NONSGML v1.0//EN
CALSCALE:GREGORIAN
METHOD:PUBLISH
X-ORIGINAL-URL:https://kentuckysheartland.com
X-WR-CALDESC:Events for KENTUCKY&#039;S HEARTLAND
REFRESH-INTERVAL;VALUE=DURATION:PT1H
X-Robots-Tag:noindex
X-PUBLISHED-TTL:PT1H
BEGIN:VTIMEZONE
TZID:America/Halifax
BEGIN:DAYLIGHT
TZOFFSETFROM:-0400
TZOFFSETTO:-0300
TZNAME:ADT
DTSTART:20220313T060000
END:DAYLIGHT
BEGIN:STANDARD
TZOFFSETFROM:-0300
TZOFFSETTO:-0400
TZNAME:AST
DTSTART:20221106T050000
END:STANDARD
BEGIN:DAYLIGHT
TZOFFSETFROM:-0400
TZOFFSETTO:-0300
TZNAME:ADT
DTSTART:20230312T060000
END:DAYLIGHT
BEGIN:STANDARD
TZOFFSETFROM:-0300
TZOFFSETTO:-0400
TZNAME:AST
DTSTART:20231105T050000
END:STANDARD
BEGIN:DAYLIGHT
TZOFFSETFROM:-0400
TZOFFSETTO:-0300
TZNAME:ADT
DTSTART:20240310T060000
END:DAYLIGHT
BEGIN:STANDARD
TZOFFSETFROM:-0300
TZOFFSETTO:-0400
TZNAME:AST
DTSTART:20241103T050000
END:STANDARD
END:VTIMEZONE
BEGIN:VTIMEZONE
TZID:UTC
BEGIN:STANDARD
TZOFFSETFROM:+0000
TZOFFSETTO:+0000
TZNAME:UTC
DTSTART:20180101T000000
END:STANDARD
END:VTIMEZONE
BEGIN:VEVENT
DTSTART;TZID=America/Halifax:20230812T080000
DTEND;TZID=America/Halifax:20230812T120000
DTSTAMP:20260420T130537
CREATED:20230811T123518Z
LAST-MODIFIED:20230811T123518Z
UID:4225-1691827200-1691841600@kentuckysheartland.com
SUMMARY:Household Hazardous Waste Disposal Event
DESCRIPTION:
URL:https://kentuckysheartland.com/event/household-hazardous-waste-disposal-event/
LOCATION:Metalsa\, 750 North Black Blanch Road\, Elizabethtown\, KY\, 42701\, United States
CATEGORIES:Community Events
ATTACH;FMTTYPE=image/jpeg:https://kentuckysheartland.com/wp-content/uploads/2023/08/Hardin-County-Waste-Event.jpg
END:VEVENT
BEGIN:VEVENT
DTSTART;TZID=UTC:20190824T080000
DTEND;TZID=UTC:20190824T140000
DTSTAMP:20260420T130537
CREATED:20190822T191938Z
LAST-MODIFIED:20190822T191938Z
UID:714-1566633600-1566655200@kentuckysheartland.com
SUMMARY:Household Hazardous Waste Prescription Drug Disposal
DESCRIPTION:
URL:https://kentuckysheartland.com/event/household-hazardous-waste-prescription-drug-disposal/
LOCATION:Metalsa\, 750 North Black Blanch Road\, Elizabethtown\, KY\, 42701\, United States
CATEGORIES:Community Events
END:VEVENT
BEGIN:VEVENT
DTSTART;TZID=UTC:20190824T080000
DTEND;TZID=UTC:20190824T140000
DTSTAMP:20260420T130537
CREATED:20190822T191938Z
LAST-MODIFIED:20190822T191938Z
UID:1767-1566633600-1566655200@kentuckysheartland.com
SUMMARY:Household Hazardous Waste Prescription Drug Disposal
DESCRIPTION:
URL:https://kentuckysheartland.com/event/household-hazardous-waste-prescription-drug-disposal-2/
LOCATION:Metalsa\, 750 North Black Blanch Road\, Elizabethtown\, KY\, 42701\, United States
CATEGORIES:Community Events
END:VEVENT
BEGIN:VEVENT
DTSTART;TZID=UTC:20190824T080000
DTEND;TZID=UTC:20190824T140000
DTSTAMP:20260420T130537
CREATED:20190822T191938Z
LAST-MODIFIED:20190822T191938Z
UID:2255-1566633600-1566655200@kentuckysheartland.com
SUMMARY:Household Hazardous Waste Prescription Drug Disposal
DESCRIPTION:
URL:https://kentuckysheartland.com/event/household-hazardous-waste-prescription-drug-disposal-3/
LOCATION:Metalsa\, 750 North Black Blanch Road\, Elizabethtown\, KY\, 42701\, United States
CATEGORIES:Community Events
END:VEVENT
END:VCALENDAR