BEGIN:VCALENDAR
VERSION:2.0
PRODID:-//KENTUCKY&#039;S HEARTLAND - ECPv6.15.20//NONSGML v1.0//EN
CALSCALE:GREGORIAN
METHOD:PUBLISH
X-ORIGINAL-URL:https://kentuckysheartland.com
X-WR-CALDESC:Events for KENTUCKY&#039;S HEARTLAND
REFRESH-INTERVAL;VALUE=DURATION:PT1H
X-Robots-Tag:noindex
X-PUBLISHED-TTL:PT1H
BEGIN:VTIMEZONE
TZID:UTC
BEGIN:STANDARD
TZOFFSETFROM:+0000
TZOFFSETTO:+0000
TZNAME:UTC
DTSTART:20180101T000000
END:STANDARD
END:VTIMEZONE
BEGIN:VEVENT
DTSTART;TZID=UTC:20191027T150000
DTEND;TZID=UTC:20191027T170000
DTSTAMP:20260421T133752
CREATED:20191023T192054Z
LAST-MODIFIED:20191023T192054Z
UID:935-1572188400-1572195600@kentuckysheartland.com
SUMMARY:Northside Baptist Trunk or Treat
DESCRIPTION:
URL:https://kentuckysheartland.com/event/northside-baptist-trunk-or-treat/
LOCATION:Northside Baptist Church\, 1800 Pear Orchard Road\, Elizabethtown\, Kentucky\, 42701
END:VEVENT
BEGIN:VEVENT
DTSTART;TZID=UTC:20191027T150000
DTEND;TZID=UTC:20191027T170000
DTSTAMP:20260421T133752
CREATED:20191023T192054Z
LAST-MODIFIED:20191023T192054Z
UID:1844-1572188400-1572195600@kentuckysheartland.com
SUMMARY:Northside Baptist Trunk or Treat
DESCRIPTION:
URL:https://kentuckysheartland.com/event/northside-baptist-trunk-or-treat-2/
LOCATION:Northside Baptist Church\, 1800 Pear Orchard Road\, Elizabethtown\, Kentucky\, 42701
END:VEVENT
BEGIN:VEVENT
DTSTART;TZID=UTC:20191027T150000
DTEND;TZID=UTC:20191027T170000
DTSTAMP:20260421T133752
CREATED:20191023T192054Z
LAST-MODIFIED:20191023T192054Z
UID:2332-1572188400-1572195600@kentuckysheartland.com
SUMMARY:Northside Baptist Trunk or Treat
DESCRIPTION:
URL:https://kentuckysheartland.com/event/northside-baptist-trunk-or-treat-3/
LOCATION:Northside Baptist Church\, 1800 Pear Orchard Road\, Elizabethtown\, Kentucky\, 42701
END:VEVENT
END:VCALENDAR